BEGIN:VCALENDAR
VERSION:2.0
PRODID:-//eventon.com NONSGML v1.0//EN
BEGIN:VEVENT
UID:69e6e2207cc08
DTSTAMP:20260421T023408
DTSTART:20230401T000000Z
DTEND:20230401T235900Z
LOCATION:
SUMMARY:L'Elisir d'Amore - The Metropolitan Opera
DESCRIPTION: L'Elisir d'Amore - The Metropolitan Opera
END:VEVENT
END:VCALENDAR