BEGIN:VCALENDAR
VERSION:2.0
PRODID:-//eventon.com NONSGML v1.0//EN
BEGIN:VEVENT
UID:69e6b7ed4cad5
DTSTAMP:20260420T233405
DTSTART:20210501T000000Z
DTEND:20210515T235900Z
LOCATION:
SUMMARY:I Puritani - Washington Concert Opera
DESCRIPTION: I Puritani - Washington Concert Opera
END:VEVENT
END:VCALENDAR