BEGIN:VCALENDAR
VERSION:2.0
PRODID:-//eventon.com NONSGML v1.0//EN
BEGIN:VEVENT
UID:69e8a4ccd9ec9
DTSTAMP:20260422T103700
DTSTART:20180821T000000Z
DTEND:20180821T235900Z
LOCATION:
SUMMARY:Dulce Rosa - Lee Holdridge
DESCRIPTION: Dulce Rosa - Lee Holdridge
END:VEVENT
END:VCALENDAR