BEGIN:VCALENDAR
VERSION:2.0
PRODID:-//eventon.com NONSGML v1.0//EN
BEGIN:VEVENT
UID:69ea9ccc74e0c
DTSTAMP:20260423T222724
DTSTART:20190531T000000Z
DTEND:20190531T235900Z
LOCATION:
SUMMARY:"Misa Tango" - Luis Bacalov
DESCRIPTION: "Misa Tango" - Luis Bacalov
END:VEVENT
END:VCALENDAR